BEGIN:VCALENDAR
VERSION:2.0
PRODID:-//ChamberMaster//Event Calendar 2.0//EN
METHOD:PUBLISH
X-PUBLISHED-TTL:P1H
REFRESH-INTERVAL:P1H
CALSCALE:GREGORIAN
BEGIN:VTIMEZONE
TZID:America/Denver
BEGIN:DAYLIGHT
RRULE:FREQ=YEARLY;BYMONTH=3;BYDAY=2SU
DTSTART:20070101T000000
TZOFFSETFROM:-0700
TZOFFSETTO:-0600
TZNAME:Mountain Daylight Time
END:DAYLIGHT
BEGIN:STANDARD
RRULE:FREQ=YEARLY;BYMONTH=11;BYDAY=1SU
DTSTART:20070101T000000
TZOFFSETFROM:-0600
TZOFFSETTO:-0700
TZNAME:Mountain Standard Time
END:STANDARD
END:VTIMEZONE
BEGIN:VEVENT
DTSTART;TZID=America/Denver:20260520T080000
DTEND;TZID=America/Denver:20260520T110000
X-MICROSOFT-CDO-ALLDAYEVENT:FALSE
SUMMARY:Webinar Wednesday - Nailed It! Contracts and Contractors: May 20\, 2026
DESCRIPTION:This course helps insurance professionals identify contract-related exposures for contractor clients and evaluate how CGL\, Business Auto\, and Workers Compensation policies respond. Participants will learn to align coverages with indemnification\, hold harmless\, waiver\, and insurance requirement provisions.This course is hosted by the Independent Insurance Agents of Nebraska. Click Register below to be directed to their registration page!
X-ALT-DESC;FMTTYPE=text/html:<!DOCTYPE html><html><head><title></title></head><body aria-disabled="false"><p style='box-sizing: border-box\; margin: 0px 0px 10px\; color: rgb(51\, 51\, 51)\; font-family: "Open Sans"\, sans-serif\; font-size: 14px\; font-style: normal\; font-variant-ligatures: normal\; font-variant-caps: normal\; font-weight: 400\; letter-spacing: normal\; orphans: 2\; text-align: start\; text-indent: 0px\; text-transform: none\; widows: 2\; word-spacing: 0px\; -webkit-text-stroke-width: 0px\; white-space: normal\; background-color: rgb(255\, 255\, 255)\; text-decoration-thickness: initial\; text-decoration-style: initial\; text-decoration-color: initial\;'>This course helps insurance professionals identify contract-related exposures for contractor clients and evaluate how CGL\, Business Auto\, and Workers Compensation policies respond. Participants will learn to align coverages with indemnification\, hold harmless\, waiver\, and insurance requirement provisions.</p><p style='box-sizing: border-box\; margin: 0px 0px 10px\; color: rgb(51\, 51\, 51)\; font-family: "Open Sans"\, sans-serif\; font-size: 14px\; font-style: normal\; font-variant-ligatures: normal\; font-variant-caps: normal\; font-weight: 400\; letter-spacing: normal\; orphans: 2\; text-align: start\; text-indent: 0px\; text-transform: none\; widows: 2\; word-spacing: 0px\; -webkit-text-stroke-width: 0px\; white-space: normal\; background-color: rgb(255\, 255\, 255)\; text-decoration-thickness: initial\; text-decoration-style: initial\; text-decoration-color: initial\;'>This course is hosted by the&nbsp\;<strong fr-original-style="box-sizing: border-box\; font-weight: 700\;" style="box-sizing: border-box\; font-weight: 700\;">Independent Insurance Agents of Nebraska</strong>. Click&nbsp\;<strong fr-original-style="box-sizing: border-box\; font-weight: 700\;" style="box-sizing: border-box\; font-weight: 700\;">Register&nbsp\;</strong>below to be directed to their registration page!</p></body></html>
LOCATION:
UID:e.1227.1451363
SEQUENCE:3
DTSTAMP:20260425T141354Z
URL:https://iiamtcalendar.growthzoneapp.com/eventcalendar/Details/webinar-wednesday-nailed-it-contracts-and-contractors-may-20-2026-1719091?sourceTypeId=Hub
END:VEVENT
END:VCALENDAR
